BEGIN:VCALENDAR
VERSION:2.0
PRODID:-//wp-events-plugin.com//7.2.3.1//EN
TZID:Europe/Madrid
X-WR-TIMEZONE:Europe/Madrid
BEGIN:VEVENT
UID:682@carrerasocr.com
DTSTART;TZID=Europe/Madrid:20241123T090000
DTEND;TZID=Europe/Madrid:20241123T170000
DTSTAMP:20241201T185759Z
URL:https://carrerasocr.com/events/animal-conquest-2024/
SUMMARY:Animal conquest 2024
DESCRIPTION:													\n		Redes SocialesEnlace a la web de la  Inscripc
 ión		\n			\n			Quieres ayudar a mantener la página?\, reserva tu alojami
 ento desde aqui		\n			\n    \n        Booking.com\n
CATEGORIES:Campeonato Europa,Egyptian Race,Enero 2025,España,Evento
 Hibrido,Farinato,Febrero 2025,Garken Box Wild Games,HEROICAN RACE,Infernal
 Running,Islas Canarias,Julio 2025,Junio 2025,LegionRace,Mud Run,Noviembre
 2024,Noviembre 2025,OCR,OCR España,OCR Series 2025,Octubre 2025,Patuntos
 Race,Santacara Gladius Race,Santuario Race,Septiembre 2025,Valkiria Race
LOCATION:Fuencaliente\, Fuencaliente\, Fuencaliente\, La Palma\, Islas Cana
 rias\, España
X-APPLE-STRUCTURED-LOCATION;VALUE=URI;X-ADDRESS=Fuencaliente\, Fuencaliente
 \, La Palma\, Islas Canarias\, España;X-APPLE-RADIUS=100;X-TITLE=Fuencali
 ente:geo:0,0
END:VEVENT
BEGIN:VTIMEZONE
TZID:Europe/Madrid
X-LIC-LOCATION:Europe/Madrid
BEGIN:STANDARD
DTSTART:20241027T020000
TZOFFSETFROM:+0200
TZOFFSETTO:+0100
TZNAME:CET
END:STANDARD
END:VTIMEZONE
END:VCALENDAR