BEGIN:VCALENDAR
VERSION:2.0
PRODID:-//wp-events-plugin.com//7.2.3.1//EN
TZID:Europe/Madrid
X-WR-TIMEZONE:Europe/Madrid
BEGIN:VEVENT
UID:1025@carrerasocr.com
DTSTART;TZID=Europe/Madrid:20260621T090000
DTEND;TZID=Europe/Madrid:20260621T170000
DTSTAMP:20260121T115928Z
URL:https://carrerasocr.com/events/aguila-race-2026/
SUMMARY:Aguila Race 2026
DESCRIPTION:															\n		Enlace a la web de la  Inscripción		\n			
CATEGORIES:Aguila Race,Castilla y Leon,España,Junio 2026,Liga AOCO,Liga
 AOCO 2026,OCR,OCR España
LOCATION:Aguilafuente\, Aguilafuente\, Aguilafuente\, Segovia\, Castilla y 
 León\, España
X-APPLE-STRUCTURED-LOCATION;VALUE=URI;X-ADDRESS=Aguilafuente\, Aguilafuente
 \, Segovia\, Castilla y León\, España;X-APPLE-RADIUS=100;X-TITLE=Aguilaf
 uente:geo:0,0
END:VEVENT
BEGIN:VTIMEZONE
TZID:Europe/Madrid
X-LIC-LOCATION:Europe/Madrid
BEGIN:DAYLIGHT
DTSTART:20260329T030000
TZOFFSETFROM:+0100
TZOFFSETTO:+0200
TZNAME:CEST
END:DAYLIGHT
END:VTIMEZONE
END:VCALENDAR