BEGIN:VCALENDAR
VERSION:2.0
PRODID:-//wp-events-plugin.com//7.2.3.1//EN
TZID:Europe/Madrid
X-WR-TIMEZONE:Europe/Madrid
BEGIN:VEVENT
UID:965@carrerasocr.com
DTSTART;TZID=Europe/Madrid:20260613T090000
DTEND;TZID=Europe/Madrid:20260613T170000
DTSTAMP:20251214T190339Z
URL:https://carrerasocr.com/events/1-and-1-aguas-de-teror-2026/
SUMMARY:1 and 1 Aguas de Teror 2026
DESCRIPTION:															\n		Redes socialesEnlace a la web de la  Inscri
 pción		\n			
CATEGORIES:España,Islas Canarias,Junio 2026,Liga OCR Canaria,OCR,OCR
 España
LOCATION:Teror\, Teror\, Teror\, Gran Canaria\, Islas Canarias\, España
X-APPLE-STRUCTURED-LOCATION;VALUE=URI;X-ADDRESS=Teror\, Teror\, Gran Canari
 a\, Islas Canarias\, España;X-APPLE-RADIUS=100;X-TITLE=Teror:geo:0,0
END:VEVENT
BEGIN:VTIMEZONE
TZID:Europe/Madrid
X-LIC-LOCATION:Europe/Madrid
BEGIN:DAYLIGHT
DTSTART:20260329T030000
TZOFFSETFROM:+0100
TZOFFSETTO:+0200
TZNAME:CEST
END:DAYLIGHT
END:VTIMEZONE
END:VCALENDAR